BEGIN:VCALENDAR
VERSION:2.0
PRODID:-//50.229.41.140//NONSGML kigkonsult.se iCalcreator 2.26.9//
CALSCALE:GREGORIAN
METHOD:PUBLISH
X-FROM-URL:https://stjosephcatholicclub.com
X-WR-TIMEZONE:America/New_York
BEGIN:VTIMEZONE
TZID:America/New_York
X-LIC-LOCATION:America/New_York
BEGIN:STANDARD
DTSTART:20251102T020000
TZOFFSETFROM:-0400
TZOFFSETTO:-0500
RDATE:20261101T020000
TZNAME:EST
END:STANDARD
BEGIN:DAYLIGHT
DTSTART:20260308T020000
TZOFFSETFROM:-0500
TZOFFSETTO:-0400
RDATE:20270314T020000
TZNAME:EDT
END:DAYLIGHT
END:VTIMEZONE
BEGIN:VEVENT
UID:ai1ec-974@stjosephcatholicclub.com
DTSTAMP:20260421T101057Z
CATEGORIES:
CONTACT:
DESCRIPTION:
DTSTART;TZID=America/New_York:20250913T100000
DTEND;TZID=America/New_York:20250913T140000
LOCATION:Certified Carpet @ 1855 Columbia Ave.\, Lancaster\, PA 17603
SEQUENCE:0
SUMMARY:St. Joseph Catholic Club –  Chicken Barbecue
URL:https://stjosephcatholicclub.com/event/1st-annual-chicken-barbecue/
X-COST-TYPE:free
END:VEVENT
BEGIN:VEVENT
UID:ai1ec-445@stjosephcatholicclub.com
DTSTAMP:20260421T101057Z
CATEGORIES:
CONTACT:
DESCRIPTION:
DTSTART;TZID=America/New_York:20260104T093000
DTEND;TZID=America/New_York:20260104T110000
SEQUENCE:0
SUMMARY:St. Joe Club Board Meeting in the Club Room
URL:https://stjosephcatholicclub.com/event/st-joe-club-board-meeting/
X-COST-TYPE:free
END:VEVENT
BEGIN:VEVENT
UID:ai1ec-1381@stjosephcatholicclub.com
DTSTAMP:20260421T101057Z
CATEGORIES:
CONTACT:
DESCRIPTION:
DTSTART;TZID=America/New_York:20260201T093000
DTEND;TZID=America/New_York:20260201T110000
SEQUENCE:0
SUMMARY:St. Joe Club Board Meeting in the Club Room
URL:https://stjosephcatholicclub.com/event/st-joseph-catholic-club-board-me
 eting-17/
X-COST-TYPE:free
END:VEVENT
BEGIN:VEVENT
UID:ai1ec-1145@stjosephcatholicclub.com
DTSTAMP:20260421T101057Z
CATEGORIES:
CONTACT:
DESCRIPTION:
DTSTART;TZID=America/New_York:20260222T200000
DTEND;TZID=America/New_York:20260222T200000
SEQUENCE:0
SUMMARY:10 Week Club– Week #1 Drawing
URL:https://stjosephcatholicclub.com/event/10-week-club-week-1-drawing/
X-COST-TYPE:free
END:VEVENT
BEGIN:VEVENT
UID:ai1ec-1537@stjosephcatholicclub.com
DTSTAMP:20260421T101057Z
CATEGORIES:
CONTACT:
DESCRIPTION:
DTSTART;TZID=America/New_York:20260228T130000
DTEND;TZID=America/New_York:20260228T150000
LOCATION:Monsignor Thomas Smith Hall @ 410 St. Joseph Street
SEQUENCE:0
SUMMARY:Beginners Pickleball Class
URL:https://stjosephcatholicclub.com/event/beginners-pickelball-class/
X-COST-TYPE:free
END:VEVENT
BEGIN:VEVENT
UID:ai1ec-1409@stjosephcatholicclub.com
DTSTAMP:20260421T101057Z
CATEGORIES:
CONTACT:
DESCRIPTION:
DTSTART;TZID=America/New_York:20260301T093000
DTEND;TZID=America/New_York:20260301T103000
SEQUENCE:0
SUMMARY:St. Joe Club Board Meeting in the Club Room
URL:https://stjosephcatholicclub.com/event/st-joe-club-board-meeting-at-cer
 tified-carpet/
X-COST-TYPE:free
END:VEVENT
BEGIN:VEVENT
UID:ai1ec-1146@stjosephcatholicclub.com
DTSTAMP:20260421T101057Z
CATEGORIES:
CONTACT:
DESCRIPTION:
DTSTART;TZID=America/New_York:20260301T200000
DTEND;TZID=America/New_York:20260301T210000
SEQUENCE:0
SUMMARY:10 Week Club– Week #2 Drawing
URL:https://stjosephcatholicclub.com/event/10-week-club-week-2-drawing/
X-COST-TYPE:free
END:VEVENT
BEGIN:VEVENT
UID:ai1ec-1147@stjosephcatholicclub.com
DTSTAMP:20260421T101057Z
CATEGORIES:
CONTACT:
DESCRIPTION:
DTSTART;TZID=America/New_York:20260308T200000
DTEND;TZID=America/New_York:20260308T210000
SEQUENCE:0
SUMMARY:10 Week Club– Week #3 Drawing
URL:https://stjosephcatholicclub.com/event/10-week-club-week-3-drawing/
X-COST-TYPE:free
END:VEVENT
BEGIN:VEVENT
UID:ai1ec-1148@stjosephcatholicclub.com
DTSTAMP:20260421T101057Z
CATEGORIES:
CONTACT:
DESCRIPTION:
DTSTART;TZID=America/New_York:20260315T200000
DTEND;TZID=America/New_York:20260315T210000
SEQUENCE:0
SUMMARY:10 Week Club– Week #4 Drawing
URL:https://stjosephcatholicclub.com/event/10-week-club-week-4-drawing/
X-COST-TYPE:free
END:VEVENT
BEGIN:VEVENT
UID:ai1ec-1149@stjosephcatholicclub.com
DTSTAMP:20260421T101057Z
CATEGORIES:
CONTACT:
DESCRIPTION:
DTSTART;TZID=America/New_York:20260322T200000
DTEND;TZID=America/New_York:20260322T210000
SEQUENCE:0
SUMMARY:10 Week Club– Week #5 Drawing
URL:https://stjosephcatholicclub.com/event/10-week-club-week-5-drawing/
X-COST-TYPE:free
END:VEVENT
BEGIN:VEVENT
UID:ai1ec-1150@stjosephcatholicclub.com
DTSTAMP:20260421T101057Z
CATEGORIES:
CONTACT:
DESCRIPTION:
DTSTART;TZID=America/New_York:20260329T200000
DTEND;TZID=America/New_York:20260329T210000
SEQUENCE:0
SUMMARY:10 Week Club– Week #6 Drawing
URL:https://stjosephcatholicclub.com/event/10-week-club-week-6-drawing/
X-COST-TYPE:free
END:VEVENT
BEGIN:VEVENT
UID:ai1ec-1151@stjosephcatholicclub.com
DTSTAMP:20260421T101057Z
CATEGORIES:
CONTACT:
DESCRIPTION:
DTSTART;TZID=America/New_York:20260405T200000
DTEND;TZID=America/New_York:20260405T210000
SEQUENCE:0
SUMMARY:10 Week Club– Week #7 Drawing
URL:https://stjosephcatholicclub.com/event/10-week-club-week-7-drawing/
X-COST-TYPE:free
END:VEVENT
BEGIN:VEVENT
UID:ai1ec-945@stjosephcatholicclub.com
DTSTAMP:20260421T101057Z
CATEGORIES:
CONTACT:
DESCRIPTION:
DTSTART;TZID=America/New_York:20260412T093000
DTEND;TZID=America/New_York:20260412T103000
SEQUENCE:0
SUMMARY:St. Joe Club Board Meeting in the Club Room
URL:https://stjosephcatholicclub.com/event/st-joseph-catholic-club-board-me
 eting-4/
X-COST-TYPE:free
END:VEVENT
BEGIN:VEVENT
UID:ai1ec-1152@stjosephcatholicclub.com
DTSTAMP:20260421T101057Z
CATEGORIES:
CONTACT:
DESCRIPTION:
DTSTART;TZID=America/New_York:20260412T200000
DTEND;TZID=America/New_York:20260412T210000
SEQUENCE:0
SUMMARY:10 Week Club– Week #8 Drawing
URL:https://stjosephcatholicclub.com/event/10-week-club-week-8-drawing/
X-COST-TYPE:free
END:VEVENT
BEGIN:VEVENT
UID:ai1ec-1153@stjosephcatholicclub.com
DTSTAMP:20260421T101057Z
CATEGORIES:
CONTACT:
DESCRIPTION:
DTSTART;TZID=America/New_York:20260419T200000
DTEND;TZID=America/New_York:20260419T210000
SEQUENCE:0
SUMMARY:10 Week Club– Week #9 Drawing
URL:https://stjosephcatholicclub.com/event/1153/
X-COST-TYPE:free
END:VEVENT
BEGIN:VEVENT
UID:ai1ec-1410@stjosephcatholicclub.com
DTSTAMP:20260421T101057Z
CATEGORIES:
CONTACT:
DESCRIPTION:
DTSTART;TZID=America/New_York:20260426T200000
DTEND;TZID=America/New_York:20260426T210000
SEQUENCE:0
SUMMARY:10 Week Club– Week #10 Drawing
URL:https://stjosephcatholicclub.com/event/10-week-club-week-10-drawing-2/
X-COST-TYPE:free
END:VEVENT
BEGIN:VEVENT
UID:ai1ec-947@stjosephcatholicclub.com
DTSTAMP:20260421T101057Z
CATEGORIES:
CONTACT:
DESCRIPTION:
DTSTART;TZID=America/New_York:20260501T180000
DTEND;TZID=America/New_York:20260501T200000
LOCATION:Monsignor Thomas Smith Hall
SEQUENCE:0
SUMMARY:10 Week Club Setup
URL:https://stjosephcatholicclub.com/event/10-week-club-setup/
X-COST-TYPE:free
END:VEVENT
BEGIN:VEVENT
UID:ai1ec-948@stjosephcatholicclub.com
DTSTAMP:20260421T101057Z
CATEGORIES:
CONTACT:
DESCRIPTION:
DTSTART;TZID=America/New_York:20260502T183000
DTEND;TZID=America/New_York:20260502T220000
LOCATION:Monsignor Thomas Smith Hall
SEQUENCE:0
SUMMARY:10 Week Club Party
URL:https://stjosephcatholicclub.com/event/10-week-club-party/
X-COST-TYPE:free
END:VEVENT
BEGIN:VEVENT
UID:ai1ec-952@stjosephcatholicclub.com
DTSTAMP:20260421T101057Z
CATEGORIES:
CONTACT:
DESCRIPTION:
DTSTART;TZID=America/New_York:20260503T093000
DTEND;TZID=America/New_York:20260503T103000
SEQUENCE:0
SUMMARY:St. Joe Club Board Meeting in the Club Room
URL:https://stjosephcatholicclub.com/event/st-joseph-catholic-club-board-me
 eting-9/
X-COST-TYPE:free
END:VEVENT
BEGIN:VEVENT
UID:ai1ec-949@stjosephcatholicclub.com
DTSTAMP:20260421T101057Z
CATEGORIES:
CONTACT:
DESCRIPTION:
DTSTART;TZID=America/New_York:20260607T093000
DTEND;TZID=America/New_York:20260607T103000
SEQUENCE:0
SUMMARY:St. Joe Club Board Meeting in the Club Room
URL:https://stjosephcatholicclub.com/event/st-joseph-catholic-club-board-me
 eting-6/
X-COST-TYPE:free
END:VEVENT
BEGIN:VEVENT
UID:ai1ec-950@stjosephcatholicclub.com
DTSTAMP:20260421T101057Z
CATEGORIES:
CONTACT:
DESCRIPTION:
DTSTART;TZID=America/New_York:20260712T093000
DTEND;TZID=America/New_York:20260712T103000
SEQUENCE:0
SUMMARY:St. Joe Club Board Meeting in the Club Room
URL:https://stjosephcatholicclub.com/event/st-joseph-catholic-club-board-me
 eting-7/
X-COST-TYPE:free
END:VEVENT
BEGIN:VEVENT
UID:ai1ec-951@stjosephcatholicclub.com
DTSTAMP:20260421T101057Z
CATEGORIES:
CONTACT:
DESCRIPTION:
DTSTART;TZID=America/New_York:20260802T093000
DTEND;TZID=America/New_York:20260802T103000
SEQUENCE:0
SUMMARY:St. Joe Club Board Meeting in the Club Room
URL:https://stjosephcatholicclub.com/event/st-joseph-catholic-club-board-me
 eting-8/
X-COST-TYPE:free
END:VEVENT
BEGIN:VEVENT
UID:ai1ec-946@stjosephcatholicclub.com
DTSTAMP:20260421T101057Z
CATEGORIES:
CONTACT:
DESCRIPTION:
DTSTART;TZID=America/New_York:20260906T093000
DTEND;TZID=America/New_York:20260906T103000
SEQUENCE:0
SUMMARY:St. Joe Club Board Meeting in the Club Room
URL:https://stjosephcatholicclub.com/event/st-joseph-catholic-club-board-me
 eting-5/
X-COST-TYPE:free
END:VEVENT
BEGIN:VEVENT
UID:ai1ec-1364@stjosephcatholicclub.com
DTSTAMP:20260421T101057Z
CATEGORIES:
CONTACT:
DESCRIPTION:
DTSTART;TZID=America/New_York:20261004T093000
DTEND;TZID=America/New_York:20261004T103000
SEQUENCE:0
SUMMARY:St. Joe Club Board Meeting in the Club Room
URL:https://stjosephcatholicclub.com/event/st-joseph-catholic-club-board-me
 eting-14/
X-COST-TYPE:free
END:VEVENT
BEGIN:VEVENT
UID:ai1ec-1365@stjosephcatholicclub.com
DTSTAMP:20260421T101057Z
CATEGORIES:
CONTACT:
DESCRIPTION:
DTSTART;TZID=America/New_York:20261101T093000
DTEND;TZID=America/New_York:20261101T103000
SEQUENCE:0
SUMMARY:St. Joe Club Board Meeting in the Club Room
URL:https://stjosephcatholicclub.com/event/st-joseph-catholic-club-board-me
 eting-15/
X-COST-TYPE:free
END:VEVENT
BEGIN:VEVENT
UID:ai1ec-1366@stjosephcatholicclub.com
DTSTAMP:20260421T101057Z
CATEGORIES:
CONTACT:
DESCRIPTION:
DTSTART;TZID=America/New_York:20261206T093000
DTEND;TZID=America/New_York:20261206T103000
SEQUENCE:0
SUMMARY:St. Joseph Catholic Club Board Meeting in the Club Room
URL:https://stjosephcatholicclub.com/event/st-joseph-catholic-club-board-me
 eting-16/
X-COST-TYPE:free
END:VEVENT
END:VCALENDAR
